BEGIN:VCALENDAR
VERSION:2.0
PRODID:-//Margo - ECPv6.15.20//NONSGML v1.0//EN
CALSCALE:GREGORIAN
METHOD:PUBLISH
X-WR-CALNAME:Margo
X-ORIGINAL-URL:https://margo.org
X-WR-CALDESC:Events for Margo
REFRESH-INTERVAL;VALUE=DURATION:PT1H
X-Robots-Tag:noindex
X-PUBLISHED-TTL:PT1H
BEGIN:VTIMEZONE
TZID:America/Los_Angeles
BEGIN:DAYLIGHT
TZOFFSETFROM:-0800
TZOFFSETTO:-0700
TZNAME:PDT
DTSTART:20230312T100000
END:DAYLIGHT
BEGIN:STANDARD
TZOFFSETFROM:-0700
TZOFFSETTO:-0800
TZNAME:PST
DTSTART:20231105T090000
END:STANDARD
BEGIN:DAYLIGHT
TZOFFSETFROM:-0800
TZOFFSETTO:-0700
TZNAME:PDT
DTSTART:20240310T100000
END:DAYLIGHT
BEGIN:STANDARD
TZOFFSETFROM:-0700
TZOFFSETTO:-0800
TZNAME:PST
DTSTART:20241103T090000
END:STANDARD
BEGIN:DAYLIGHT
TZOFFSETFROM:-0800
TZOFFSETTO:-0700
TZNAME:PDT
DTSTART:20250309T100000
END:DAYLIGHT
BEGIN:STANDARD
TZOFFSETFROM:-0700
TZOFFSETTO:-0800
TZNAME:PST
DTSTART:20251102T090000
END:STANDARD
BEGIN:DAYLIGHT
TZOFFSETFROM:-0800
TZOFFSETTO:-0700
TZNAME:PDT
DTSTART:20260308T100000
END:DAYLIGHT
BEGIN:STANDARD
TZOFFSETFROM:-0700
TZOFFSETTO:-0800
TZNAME:PST
DTSTART:20261101T090000
END:STANDARD
END:VTIMEZONE
BEGIN:VEVENT
DTSTART;VALUE=DATE:20240915
DTEND;VALUE=DATE:20240920
DTSTAMP:20260419T191446
CREATED:20240807T175237Z
LAST-MODIFIED:20240807T175237Z
UID:10000003-1726358400-1726790399@margo.org
SUMMARY:Project Margo at Open Source Summit Europe
DESCRIPTION:Meet Project Margo: Networking Happy Hour | Sunday\, September 15\, 4-6pm \nJoin Project Margo\, a new initiative at the Linux Foundation for a networking happy hour at Open Source Summit Europe. Meet with other industry professionals in the edge space and learn about the latest improvements and initiatives for Margo. \nProject Margo at Linux Foundation Europe Member Summit | Thursday\, September 19 \nThis event will feature prominent speakers from the private and public sectors and existing and upcoming Linux Foundation projects\, as well as offer an opportunity for members of LF Europe to share their organisational priorities and put forward collaboration opportunities to the Linux Foundation Europe Advisory Board and membership at large.
URL:https://margo.org/event/project-margo-at-open-source-summit-europe/
LOCATION:Austria Center Vienna\, Bruno-Kreisky-Platz 1\, 1220\, Wien\, Austria
END:VEVENT
BEGIN:VEVENT
DTSTART;TZID=America/Los_Angeles:20250331T080000
DTEND;TZID=America/Los_Angeles:20250404T170000
DTSTAMP:20260419T191446
CREATED:20250320T125550Z
LAST-MODIFIED:20250320T125702Z
UID:10000004-1743408000-1743786000@margo.org
SUMMARY:Hannover Messe
DESCRIPTION:Join Margo Chair\, Bart Nieuwborg\, and Margo members: Carl Moberg\, Avassa\, Ashwani Singh\, PhD\, Belden Inc.\, and Michael Maxey\, ZEDEDA\, in a panel moderated by Nicolas Rousseau\, Capgemini at HANNOVER MESSE\, one year since the launch\, as we reflect on our achievements and explore what’s next for industrial automation. \n\nDate: April 1\, 2025\nTime: 4:00 PM CET\nLocation: Capgemini Booth Hall 15 Stand F52
URL:https://margo.org/event/hannover-messe/
LOCATION:Exhibition Grounds Hannover\, Messegelände D\, Hannover\, 30521
CATEGORIES:Industry Events
ATTACH;FMTTYPE=image/jpeg:https://margo.org/wp-content/uploads/sites/23/2025/03/HannMes2025-scaled-1.jpg
END:VEVENT
BEGIN:VEVENT
DTSTART;TZID=America/Los_Angeles:20251028T080000
DTEND;TZID=America/Los_Angeles:20251028T170000
DTSTAMP:20260419T191446
CREATED:20251007T141626Z
LAST-MODIFIED:20251014T181313Z
UID:10000007-1761638400-1761670800@margo.org
SUMMARY:Linux Foundation Europe Member Summit 2025
DESCRIPTION:The Linux Foundation Europe Member Summit is an annual gathering for Linux Foundation Europe members\, along with invited speakers\, sponsors and media. \nThis event cultivates collaboration\, open innovation\, and partnerships among those in the private public sectors working to drive digital transformation through open collaboration. It is a must-attend for business and technical leaders looking to advance a Europe-wide open source strategy and mobilise resources in their organisations to collaboratively influence the largest shared technology investment of our time. \nMargo at LF Europe Member Summit\nMargo will join this year’s program to highlight how open collaboration is accelerating industrial interoperability and automation. Rockwell Automation’s Senior Manager\, Open Architecture Management\, Paul Brooks\, will share recent milestones and community progress\, showcasing how collaborative engineering in Margo is shaping the next generation of industrial systems. \n\nTime: Tuesday October 28\, 2025 11:00 – 11:15 CET\nLocation: De Markt (Hall)\n\nExplore the full schedule here.
URL:https://margo.org/event/linux-foundation-europe-member-summit-2025/
LOCATION:De Oude Vismijn\, Sint-Veerleplein 5\, 9000\, Gent\, Belgium
END:VEVENT
BEGIN:VEVENT
DTSTART;VALUE=DATE:20251125
DTEND;VALUE=DATE:20251128
DTSTAMP:20260419T191446
CREATED:20250902T174057Z
LAST-MODIFIED:20251106T135851Z
UID:10000006-1764028800-1764287999@margo.org
SUMMARY:SPS 2025
DESCRIPTION:As the world’s leading highlight trade fair for the industry\, the SPS – Smart Production Solutions brings together over 1\,000 exhibitors and an international audience from 25 – 27 November 2025 in Nuremberg – focusing on concrete solutions\, digital trends and practical innovations. \nFeatured Session \nOur Multi-Vendor Journey to Margo: Driving IT/OT Convergence at the Industrial Edge \n\n25 November 2025\n14:00 – 14:20 (GMT+1)\nStage Hall 1 — Product Presentation Programme\n\nJoin leaders from Red Hat\, Belden\, and Rockwell Automation as they share how the Margo Initiative is building an open interoperability framework to accelerate industrial edge application deployment. Learn how a collaborative\, multi-vendor approach bridges IT and OT environments—powered by Red Hat’s secure open hybrid cloud foundation—to streamline fleet management\, improve security\, and enable innovation across diverse industrial environments. \nView session details here.
URL:https://margo.org/event/sps2025/
CATEGORIES:Industry Events
END:VEVENT
END:VCALENDAR